BEGIN:VCALENDAR
VERSION:2.0
PRODID:-//Eventin//Event Calendar//EN
CALSCALE:GREGORIAN
METHOD:PUBLISH
BEGIN:VEVENT
UID:dfcfd1227722e886ca0d4f6326f5f8c8@adventurelk.com
SUMMARY:Lanka Ella Abseiling
DESCRIPTION:Feel the Rush. Conquer the Edge.\nGet ready for the ultimate ad
 renaline adventure at Lanka Ella.\nFrom a scenic jungle hike to standing on
  the edge of a stunning waterfall\, this experience is designed for true ad
 venture seekers. The highlight? A thrilling 100 ft waterfall abseiling desc
 ent that will push your limits and leave you with unforgettable memories.\n
 🔥 This is not just an activity—it’s an experience you’ll never for
 get.\nEvent Details\n\n\nDate: 31st May 2026\n\n\nStarting Time: 1:30 AM\n\
 n\nStarting Point: Fort Railway Station\n\n\nDuration: 1 Day\n\n\nAbseiling
  Height: 100 ft\n\n\nEnding Point: Fort Railway Station\n\n\nMain Activity:
  Waterfall Abseiling\n\n\nDifficulty Level: Moderate\n\n\n Itinerary\n\n\n
 🚐 Pickup from Fort Railway Station\n\n\n🚌 Transport to Bambarakanda F
 alls area\n\n\n🍳 Breakfast\n\n\n🧘 Introduction & stretching session\n
 \n\n🌿 Scenic hike to Lanka Ella\n\n\n⛰️ Hike to the top of the water
 fall\n\n\n🦺 Safety briefing & professional demonstration\n\n\n💧 Water
 fall abseiling experience (100 ft)\n\n\n💧 Refreshments during/after acti
 vity\n\n\n🍱 Lunch in nature\n\n\n☕ Evening tea & snacks\n\n\n🚌 Retu
 rn to Fort Railway Station\n\n\nInclusions\n\n\n📸 Complimentary photogra
 phs (RAW footage included)\n\n\n⛑️ First-aid support\n\n\n🧭 Qualifie
 d and experienced instructors\n\n\n🚌 Transportation (for transport packa
 ge participants)\n\n\n🍽️ Meals:\n\n\nRefreshments\n\n\nBreakfast\n\n\n
 Lunch\n\n\nEvening tea & snacks\n\n\n\n\nWhat to Bring\n\n\n🥾 Suitable f
 ootwear for abseiling\n\n\n👕 Comfortable clothes for water activities\n\
 n\n🧤 Half gloves / gym gloves (no full finger cover)\n\n\n🧺 Towel\n\n
 \n📷 Personal camera\n\n\n💊 Personal medication\n\n\n💧 Water bottle
  (minimum 2L)\n\n\nContact Us\nFor bookings and more details:\n\n\nDinuwan:
  +94 77 840 5202\n\n\nSupun: +94 77 817 0290\n\n\nLimited Slots Available!\
 nTake the leap\, challenge yourself\, and experience one of Sri Lanka’s m
 ost thrilling waterfall adventures.\n👉 Book now and be part of the Adven
 ture LK experience!\n\n \n\n 
LOCATION:babarakanda
DTSTAMP:20260419T141541Z
DTSTART:20260522T200000Z
DTEND:20260523T171000Z
END:VEVENT
END:VCALENDAR
