BEGIN:VCALENDAR
VERSION:2.0
PRODID:-//Eventin//Event Calendar//EN
CALSCALE:GREGORIAN
METHOD:PUBLISH
BEGIN:VEVENT
UID:97ba7fd5145e0e2546fed0db7bcf202d@adventurelk.com
SUMMARY:Knucles Five Peaks Exploration
DESCRIPTION:An Unforgettable Wilderness Adventure\nStep into the misty heig
 hts of the legendary Knuckles Mountain Range and take on one of Sri Lanka
 ’s most thrilling multi-peak hiking challenges.\nThis iconic trail is kno
 wn for its breathtaking views\, cloud-covered landscapes\, and raw natural 
 beauty. Designed for adventure seekers\, this experience will push your lim
 its and reward you with unforgettable moments.\nA true wilderness adventure
  awaits… are you ready?\n⚠️ Limited spots available – don’t miss 
 your chance to be part of this exclusive expedition!\nEvent Details\n\n\nDa
 te: 16th May 2026\n\n\nStarting Time: 1:15 AM\n\n\nStarting Point: Fort Rai
 lway Station\n\n\nDuration: 1 Day\n\n\nHiking Distance: 16 KM\n\n\nEnding P
 oint: Fort Railway Station\n\n\nMain Activity: Hiking Expedition\n\n\nPrice
 \nLKR 10\,500 per person (With transport included)\nItinerary\n\n\n🚐 Pic
 kup from Fort Railway Station\n\n\n🍳 Breakfast on arrival\n\n\n🚌 Tran
 sfer to Thangappuwa (trail starting point)\n\n\n🧘 Introduction & stretch
 ing session\n\n\n🥾 Hike to Kotaganga-Pathana\n\n\n🍱 Lunch break in na
 ture\n\n\n⛰️ Continue hike to the Knuckles Five Peaks\n\n\n☕ Evening 
 tea & snacks\n\n\n🚌 Return transport to Fort Railway Station\n\n\nInclus
 ions\n\n\n📸 Complimentary professional photographs\n\n\n⛑️ First-aid
  support\n\n\n🧭 Qualified and experienced instructors\n\n\n🚌 Transpor
 tation (for transport package participants)\n\n\n🍽️ Meals:\n\n\nRefres
 hments\n\n\nBreakfast\n\n\nLunch\n\n\nEvening tea & snacks\n\n\n\n\nWhat to
  Bring\n\n\n🥾 Proper hiking footwear\n\n\n👕 Comfortable outdoor cloth
 ing\n\n\n🛏️ Blanket (for travel comfort)\n\n\n📷 Personal camera\n\n
 \n💊 Personal medication\n\n\n💧 Water bottle (minimum 2L)\n\n\nContact
  Us\nFor bookings and more details:\n\n\nDinuwan: +94 77 840 5202\n\n\nSupu
 n: +94 77 817 0290\n\n\n🚨 Secure Your Spot Now!\nThis is more than just 
 a hike—it’s a once-in-a-lifetime adventure into one of Sri Lanka’s mo
 st stunning mountain ranges.\n👉 Book now before all slots are filled!\n
  
LOCATION:thangappuwa
DTSTAMP:20260419T141617Z
DTSTART:20260515T194500Z
DTEND:20260516T180000Z
END:VEVENT
END:VCALENDAR
