BEGIN:VCALENDAR
VERSION:2.0
PRODID:-//Eventin//Event Calendar//EN
CALSCALE:GREGORIAN
METHOD:PUBLISH
BEGIN:VEVENT
UID:bc074889e749b8dba74318adeb59c18e@adventurelk.com
SUMMARY:Kotaganga 7 falls waterfall Hunt
DESCRIPTION:Explore the Hidden Waterfall Chain of Knuckles\nKotaganga water
 fall is located in the Knuckles Mountain Range in the Kandy District. Kota 
 Ganga hike will make for a great memorable experience and highly recommend 
 this for those who love adventure. Also\, Kotaganga Ella Falls are seven wa
 terfalls on one mountain and the foggy and the lush green hills are spectac
 ular scenery.\nA scenic\, thrilling\, and unforgettable experience awaits!\
 n⚠️ Limited spots available – don’t miss your chance to conquer thi
 s natural wonder!\nEvent Details\n\n\nDate: 17th May 2026\n\n\nStarting Tim
 e: 12:30 AM\n\n\nStarting Point: Fort Railway Station\n\n\nDuration: 1 Day\
 n\n\nHiking Distance: 11.5 KM\n\n\nEnding Point: Fort Railway Station\n\n\n
 Main Activity: Hiking & Waterfall Exploration\n\n\nPrice\nLKR 10\,500 per p
 erson (Transport included)\nItinerary\n\n\n🚐 Pickup from Fort Railway St
 ation\n\n\n🚌 Transport to Thangappuwa Village\n\n\n🍳 Breakfast\n\n\n
 🧘 Introduction & stretching session\n\n\n🌿 Hike to the top of the Kot
 aganga waterfall chain\n\n\n🍱 Lunch during the hike\n\n\n⛰️ Descend 
 along the waterfall chain\n\n\n💧 Refreshing waterfall bath experience\n\
 n\n☕ Evening tea & snacks\n\n\n🥾 Hike back to Rangala Village\n\n\n
 🚌 Return transport to Fort Railway Station\n\n\nInclusions\n\n\n📸 Com
 plimentary photographs\n\n\n🚁 Drone footage (RAW files included)\n\n\n
 ⛑️ First-aid support\n\n\n🧭 Qualified and experienced instructors\n\
 n\n🚌 Transportation (for transport package participants)\n\n\n🍽️ Me
 als:\n\n\nRefreshments\n\n\nBreakfast\n\n\nLunch\n\n\nEvening tea & snacks\
 n\n\n\n\nWhat to Bring\n\n\n🥾 Proper hiking clothing & footwear\n\n\n
 🧢 Hat / cap & sunglasses\n\n\n🌧️ Raincoat (optional)\n\n\n📷 Pers
 onal camera\n\n\n💊 Personal medication\n\n\n💧 Water bottle (minimum 2
 L)\n\n\n Contact Us\nFor bookings and more details:\n\n\nDinuwan: +94 77 8
 40 5202\n\n\nSupun: +94 77 817 0290\n\n\nBook Now – Limited Slots!\nStep 
 into the wild\, explore hidden waterfalls\, and experience one of the most 
 scenic adventures in Sri Lanka.\n👉 Reserve your spot today and be part o
 f the Adventure LK experience!
LOCATION:thangappuwa
DTSTAMP:20260419T141617Z
DTSTART:20260516T190000Z
DTEND:20260517T170000Z
END:VEVENT
END:VCALENDAR
