BEGIN:VCALENDAR
VERSION:2.0
PRODID:-//Eventin//Event Calendar//EN
CALSCALE:GREGORIAN
METHOD:PUBLISH
BEGIN:VEVENT
UID:8389d9bcdb5785946defbbf654cde8e6@adventurelk.com
SUMMARY:Thunhisgala Hike & KMP Camping
DESCRIPTION:2 Days | Extreme Hiking Experience\nStep into the wild and take
  on a true endurance challenge within the breathtaking Knuckles Mountain Ra
 nge.\nThis intensive multi-peak hiking and camping adventure is designed fo
 r those who seek more than just a hike. Covering longer distances and tough
 er terrain\, you’ll explore remote trails\, conquer peaks\, and camp deep
  in nature under the stars.\nPush your limits. Embrace the wild. Experience
  the extraordinary.\n⚠️ Limited spots available—secure yours now!\nEv
 ent Details\n\n\nDates: 25th & 26th April 2026\n\n\nStarting Time: 12:15 AM
 \n\n\nStarting Point: Fort Railway Station\n\n\nDuration: 2 Days / 1 Night\
 n\n\nHiking Distance: 18 KM\n\n\nEnding Point: Fort Railway Station\n\n\nMa
 in Activities: Hiking & Camping\n\n\nPrice\nLKR 19\,500 per person (Transpo
 rt included)\nItinerary\n🗓️ Day 01\n\n\n🚐 Pickup from Fort Railway 
 Station\n\n\n🍳 Breakfast\n\n\n🚌 Transfer to Lebanon Estate (trail sta
 rting point)\n\n\n🧘 Introduction & stretching session\n\n\n🥾 Hike to 
 KMP Wadiya\n\n\n⛰️ Continue hike to Thunhisgala\n\n\n🍱 Lunch during 
 the hike\n\n\n⛺ Camping setup at KMP Wadiya\n\n\n🍽️ Dinner & overnig
 ht stay\n\n\n🗓️ Day 02\n\n\n🌄 Morning routine & breakfast\n\n\n🥾
  Hike back towards Lebanon Estate\n\n\n🍱 Lunch\n\n\n☕ Evening tea\n\n\
 n🚌 Return transport to Fort Railway Station\n\n\nLocations Covered\n\n\n
 KMP Wadiya\n\n\nThunhisgala\n\n\nInclusions\n\n\n📸 Complimentary photogr
 aphs\n\n\n⛑️ First-aid support\n\n\n⛺ Camping gear & equipment\n\n\n
 🧭 Qualified and experienced instructors\n\n\n🚌 Transportation (for tr
 ansport package participants)\n\n\n🍽️ Meals:\n\n\nRefreshments\n\n\nBr
 eakfast ×2\n\n\nLunch ×2\n\n\nDinner ×1\n\n\nEvening tea & snacks\n\n\n\
 n\nWhat to Bring\n\n\n🥾 Proper hiking footwear\n\n\n👕 Comfortable out
 door clothing\n\n\n🛏️ Blanket (for camping comfort)\n\n\n📷 Personal
  camera\n\n\n💊 Personal medication\n\n\n💧 Water bottle (minimum 2L)\n
 \n\nContact Us\nFor bookings and more details:\n\n\nDinuwan: +94 77 840 520
 2\n\n\nSupun: +94 77 817 0290\n\n\nBook Now – Limited Slots!\nThis is you
 r chance to experience one of the toughest and most rewarding adventures in
  Knuckles.\n👉 Reserve your spot today and be part of an unforgettable jo
 urney!
LOCATION:Knucles
DTSTAMP:20260419T141618Z
DTSTART:20260424T184500Z
DTEND:20260426T163000Z
END:VEVENT
END:VCALENDAR
