BEGIN:VCALENDAR
VERSION:2.0
PRODID:-//Eventin//Event Calendar//EN
CALSCALE:GREGORIAN
METHOD:PUBLISH
BEGIN:VEVENT
UID:609f25908d3b99f3b9dbf8a4b0ea647e@adventurelk.com
SUMMARY:Kotaganga 7 falls Expedition & Alugallena Camping
DESCRIPTION:2 Days | Ultimate Wilderness Experience\nTake on one of the mos
 t thrilling adventures in Sri Lanka within the breathtaking Knuckles Mounta
 in Range.\nThis multi-peak hiking and camping expedition is designed for tr
 ue adventurers who seek challenge\, endurance\, and unforgettable scenery. 
 With mist-covered mountains\, remote trails\, and a night under the stars\,
  this is more than a hike. It’s a complete wilderness experience.\nA jour
 ney beyond limits awaits… are you ready?\n⚠️ Limited spots available
 —don’t miss out!\nEvent Details\n\n\nDates: 16th & 17th May 2026\n\n\nS
 tarting Time: 1:15 AM\n\n\nStarting Point: Fort Railway Station\n\n\nDurati
 on: 2 Days / 1 Night\n\n\nHiking Distance: 14.5 KM\n\n\nEnding Point: Fort 
 Railway Station\n\n\nMain Activities: Hiking & Camping\n\n\nPrice\nLKR 19\,
 500 per person (Transport included)\nItinerary\nDay 01\n\n\n🚐 Pickup fro
 m Fort Railway Station\n\n\n🍳 Breakfast\n\n\n🚌 Transfer to Thangappuw
 a\n\n\n🧘 Introduction & stretching session\n\n\n🥾 Hike to Alugallena\
 n\n\n🍱 Lunch during the hike\n\n\n☕ Evening tea & snacks\n\n\n⛺ Camp
 ing setup at Alugallena\n\n\n🍽️ Dinner under the stars\n\n\nDay 02\n\n
 \n🌄 Morning tea\n\n\n🍳 Breakfast\n\n\n🥾 Hike to Kotaganga Waterfal
 l\n\n\n🍱 Lunch\n\n\n☕ Evening tea\n\n\n🚌 Return transport to Fort R
 ailway Station\n\n\nInclusions\n\n\n📸 Complimentary photographs\n\n\n⛑
 ️ First-aid support\n\n\n⛺ Camping gear & equipment\n\n\n🧭 Qualified
  and experienced instructors\n\n\n🚌 Transportation (for transport packag
 e participants)\n\n\n🍽️ Meals:\n\n\nRefreshments\n\n\nBreakfast ×2\n\
 n\nLunch ×2\n\n\nDinner ×1\n\n\nEvening tea & snacks\n\n\n\n\nWhat to Bri
 ng\n\n\n🥾 Proper hiking footwear\n\n\n👕 Comfortable outdoor clothing\
 n\n\n🛏️ Blanket (for camping comfort)\n\n\n📷 Personal camera\n\n\n
 💊 Personal medication\n\n\n💧 Water bottle (minimum 2L)\n\n\nContact U
 s\nFor bookings and more details:\n\n\nDinuwan: +94 77 840 5202\n\n\nSupun:
  +94 77 817 0290\n\n\nBook Now – Limited Slots!\nExperience the thrill of
  hiking\, the peace of camping\, and the beauty of Knuckles like never befo
 re.\n👉 Reserve your spot today for an adventure of a lifetime!
LOCATION:thangappuwa
DTSTAMP:20260419T141541Z
DTSTART:20260515T194500Z
DTEND:20260517T172000Z
END:VEVENT
END:VCALENDAR
