BEGIN:VCALENDAR
VERSION:2.0
PRODID:-//Eventin//Event Calendar//EN
CALSCALE:GREGORIAN
METHOD:PUBLISH
BEGIN:VEVENT
UID:a255774a03a3e68fd00ebe0f4b3ffb1a@adventurelk.com
SUMMARY:Kanawiddagala Adventure Hike
DESCRIPTION:Conquer the Heights of Knuckles\nDiscover the breathtaking beau
 ty of Kanawiddagala\, one of the most sought-after hiking destinations with
 in the majestic Knuckles Mountain Range.\nFamous for its panoramic viewpoin
 ts\, rolling grasslands\, and challenging trails\, this hike offers the per
 fect blend of adventure and natural beauty. Whether you're chasing sunrise 
 views or testing your endurance\, this journey promises an unforgettable ex
 perience.\n🔥 Spots are limited—secure yours before it’s too late!\nE
 vent Details\n\n\nDate: 25th April 2026\n\n\nStarting Time: 1:00 AM\n\n\nSt
 arting Point: Fort Railway Station\n\n\nDuration: 1 Day\n\n\nHiking Distanc
 e: 8 KM\n\n\nEnding Point: Fort Railway Station\n\n\nMain Activity: Hiking\
 n\n\nPrice\nLKR 14\,500 per person (Transport from Colombo included)\nItine
 rary\n\n\n🚐 Pickup from Fort Railway Station\n\n\n🚌 Scenic drive via 
 Kiribathgoda → Yakkala → Pasyala → Warakapola → Kandy → Hunnasgir
 iya\n\n\n📍 Arrival at Kalugala (trail starting point)\n\n\n🍳 Breakfas
 t\n\n\n🧘 Introduction & stretching session\n\n\n🌿 Hike to Wellangolla
  Pathana\n\n\n⛰️ Summit push to Kanawiddagala\n\n\n💧 Refreshments du
 ring the hike\n\n\n🍱 Lunch amidst nature\n\n\n☕ Evening tea & snacks\n
 \n\n🚌 Return to Fort Railway Station\n\n\nInclusions\n\n\n📸 Complimen
 tary photographs\n\n\n🚁 Drone footage (RAW files included)\n\n\n⛑️ F
 irst-aid support\n\n\n🧭 Qualified and experienced instructors\n\n\n🚌 
 Transportation (for transport package participants)\n\n\n🍽️ Meals:\n\n
 \nRefreshments\n\n\nBreakfast\n\n\nLunch\n\n\nEvening tea & snacks\n\n\n\n\
 nWhat to Bring\n\n\n🥾 Proper hiking clothing & footwear\n\n\n🧢 Hat / 
 cap & sunglasses\n\n\n🌧️ Raincoat (optional but recommended)\n\n\n📷
  Personal camera\n\n\n💊 Personal medication\n\n\n💧 Water bottle (mini
 mum 2L)\n\n\nContact Us\nFor bookings and more information:\n\n\nDinuwan: +
 94 77 840 5202\n\n\nSupun: +94 77 817 0290\n\n\nBook Now – Limited Slots!
 \nStep into the wild\, challenge yourself\, and experience one of Sri Lanka
 ’s most iconic hikes.\n👉 Reserve your spot today and be part of an epi
 c adventure!
LOCATION:Yahangala
DTSTAMP:20260419T141541Z
DTSTART:20260424T193000Z
DTEND:20260425T170000Z
END:VEVENT
END:VCALENDAR
